BEGIN:VCALENDAR
VERSION:2.0
PRODID:-//NNAHRA - ECPv6.13.2.1//NONSGML v1.0//EN
CALSCALE:GREGORIAN
METHOD:PUBLISH
X-WR-CALNAME:NNAHRA
X-ORIGINAL-URL:https://nnahra.org
X-WR-CALDESC:Events for NNAHRA
REFRESH-INTERVAL;VALUE=DURATION:PT1H
X-Robots-Tag:noindex
X-PUBLISHED-TTL:PT1H
BEGIN:VTIMEZONE
TZID:America/Phoenix
BEGIN:STANDARD
TZOFFSETFROM:-0700
TZOFFSETTO:-0700
TZNAME:MST
DTSTART:20260101T000000
END:STANDARD
END:VTIMEZONE
BEGIN:VTIMEZONE
TZID:America/Los_Angeles
BEGIN:DAYLIGHT
TZOFFSETFROM:-0800
TZOFFSETTO:-0700
TZNAME:PDT
DTSTART:20260308T100000
END:DAYLIGHT
BEGIN:STANDARD
TZOFFSETFROM:-0700
TZOFFSETTO:-0800
TZNAME:PST
DTSTART:20261101T090000
END:STANDARD
END:VTIMEZONE
BEGIN:VTIMEZONE
TZID:America/Chicago
BEGIN:DAYLIGHT
TZOFFSETFROM:-0600
TZOFFSETTO:-0500
TZNAME:CDT
DTSTART:20260308T080000
END:DAYLIGHT
BEGIN:STANDARD
TZOFFSETFROM:-0500
TZOFFSETTO:-0600
TZNAME:CST
DTSTART:20261101T070000
END:STANDARD
END:VTIMEZONE
BEGIN:VEVENT
DTSTART;TZID=America/Phoenix:20260511T070000
DTEND;TZID=America/Phoenix:20260511T150000
DTSTAMP:20260423T050115
CREATED:20260130T034230Z
LAST-MODIFIED:20260130T034546Z
UID:17827-1778482800-1778511600@nnahra.org
SUMMARY:2nd Annual Tal D. Moore Golf Classic
DESCRIPTION: 
URL:https://nnahra.org/event/2nd-annual-tal-d-moore-golf-classic/
LOCATION:Whirlwind Golf Course\, 5692 W North Loop Rd\, Chandler\, AZ\, 85226\, United States
ATTACH;FMTTYPE=image/jpeg:https://nnahra.org/wp-content/uploads/2026/01/29004_NNAHRA_Golf-Tournament-Banner2-scaled.jpg
ORGANIZER;CN="NNAHRA Foundation":MAILTO:atavakoli@nnahra.org
END:VEVENT
BEGIN:VEVENT
DTSTART;TZID=America/Phoenix:20260512T060000
DTEND;TZID=America/Phoenix:20260512T073000
DTSTAMP:20260423T050115
CREATED:20260114T204452Z
LAST-MODIFIED:20260219T195833Z
UID:17480-1778565600-1778571000@nnahra.org
SUMMARY:NNAHRA Foundation Golf Clinic - Beginners
DESCRIPTION:The NNAHRA Foundation is honored to offer a beginner’s golf clinic on Tuesday\, May 12\, 2026\, at the Whirlwind Golf Club at the Wild Horse Pass. \nBeginner Clinic\nTuesday\, May 12\, 2026\n6:00–7:30 AM \nThis session covers the core fundamentals of golf\, including grip\, alignment\, and posture. It’s an excellent fit for new golfers or anyone looking for a solid refresher on the basics. \nRegister Here\nThis event is being held in the morning prior to the Women’s Summit co-hosted by Tribal Gaming Protection Network (TPGN) and the National Native American Human Resources Association (NNAHRA)
URL:https://nnahra.org/event/nnahra-foundation-golf-clinic-beginners/
LOCATION:Whirlwind Golf Course\, 5692 W North Loop Rd\, Chandler\, AZ\, 85226\, United States
ATTACH;FMTTYPE=image/jpeg:https://nnahra.org/wp-content/uploads/2025/12/Golf-Clinic-Whirlwind-JPG.jpg
ORGANIZER;CN="NNAHRA Foundation":MAILTO:atavakoli@nnahra.org
END:VEVENT
BEGIN:VEVENT
DTSTART;TZID=America/Los_Angeles:20260512T080000
DTEND;TZID=America/Los_Angeles:20260513T170000
DTSTAMP:20260423T050115
CREATED:20251126T142708Z
LAST-MODIFIED:20251215T173123Z
UID:17328-1778572800-1778691600@nnahra.org
SUMMARY:Women's Summit- Strength in Unity
DESCRIPTION:The Tribal Gaming Protection Network (TGPN) is proud to partner with the National Native American Human Resources Association (NNAHRA) to present the Women’s Summit\, happening May 12–13\, 2026 at Gila River Resorts & Casinos – Wild Horse Pass\, AZ.\nThis partnership brings together two organizations united by a shared mission — to empower\, educate\, and elevate women leading with excellence across Indian Country.\nTogether\, we’re creating a space for meaningful connection\, professional growth\, and cultural celebration — where leadership and sisterhood thrive side by side.
URL:https://nnahra.org/event/womens-summit-strength-in-unity/
LOCATION:Gila River Casino & Resort\, 5040 Wild Horse Pass Blvd\, Chandler\, AZ\, 85226\, United States
CATEGORIES:event
ATTACH;FMTTYPE=image/jpeg:https://nnahra.org/wp-content/uploads/2025/11/Option-3_6_x4_-27095_Save-the-Date-Part-22.jpg
ORGANIZER;CN="NNAHRA":MAILTO:info@nnahra.org
END:VEVENT
BEGIN:VEVENT
DTSTART;TZID=America/Phoenix:20260513T060000
DTEND;TZID=America/Phoenix:20260513T073000
DTSTAMP:20260423T050115
CREATED:20260114T204535Z
LAST-MODIFIED:20260219T194848Z
UID:17485-1778652000-1778657400@nnahra.org
SUMMARY:NNAHRA Foundation Golf Clinic - Advanced
DESCRIPTION:The NNAHRA Foundation is honored to offer an advanced golf clinic on Wednesday\, May 13\, 2026\, at the Whirlwind Golf Club at the Wild Horse Pass. \nAdvanced Clinic\nWednesday\, May 13\, 2026\n6:00–7:30 AM \nThis session focuses on bunker play and chipping techniques. It’s designed for golfers with a solid foundation who want to sharpen their short-game skills. \nRegister Here\nThis event is being held in the morning prior to the Women’s Summit co-hosted by Tribal Gaming Protection Network (TPGN) and the National Native American Human Resources Association (NNAHRA)
URL:https://nnahra.org/event/nnahra-foundation-golf-clinic-advanced/
LOCATION:Whirlwind Golf Course\, 5692 W North Loop Rd\, Chandler\, AZ\, 85226\, United States
ATTACH;FMTTYPE=image/jpeg:https://nnahra.org/wp-content/uploads/2025/12/Golf-Clinic-Whirlwind-JPG.jpg
ORGANIZER;CN="NNAHRA Foundation":MAILTO:atavakoli@nnahra.org
END:VEVENT
BEGIN:VEVENT
DTSTART;VALUE=DATE:20260602
DTEND;VALUE=DATE:20260605
DTSTAMP:20260423T050115
CREATED:20260121T230817Z
LAST-MODIFIED:20260202T155358Z
UID:17723-1780358400-1780617599@nnahra.org
SUMMARY:TMP - Tribal Management Professional - June 2026 - Chandler\, AZ
DESCRIPTION:Tribal Management Professional (TMP) Certification \nThe TMP certification is a three-day\, in-person program that builds practical management skills in a culturally relevant context. The course includes modules on: \n\nTalent Acquisition\nBehavioral Interviewing\nPerformance Evaluation\nEmployee Engagement\nLeadership Development\n\nThis is a hands-on program designed for current and emerging leaders at all levels\, including HR and Training professionals who want train-the-trainer support. Participants must attend all three days\, and certification is earned by completing a 50-question exam on Day 3 with a minimum score of 65%. \nRegistration Costs: \nNNAHRA Member  $895 \nN0n-NNAHRA Member  $995 \n \nRecertification \nTo maintain certification\, participants must complete at least 24 hours of NNAHRA-approved education every two years. \nIf your Tribe is interested in hosting a TMP session\, please contact info@nnahra.org. \nTMP Brochure_08252025
URL:https://nnahra.org/event/tmp-tribal-management-professional-june-2026-chandler-az/
LOCATION:Wild Horse Pass Hotel & Casino\, 5040 Wild Horse Pass Blvd.\, Chandler\, Arizona\, 85226\, United States
CATEGORIES:event
ATTACH;FMTTYPE=image/png:https://nnahra.org/wp-content/uploads/2026/01/image.png
ORGANIZER;CN="NNAHRA Foundation":MAILTO:atavakoli@nnahra.org
END:VEVENT
BEGIN:VEVENT
DTSTART;VALUE=DATE:20260602
DTEND;VALUE=DATE:20260605
DTSTAMP:20260423T050115
CREATED:20260121T231120Z
LAST-MODIFIED:20260123T193206Z
UID:17727-1780358400-1780617599@nnahra.org
SUMMARY:TAP Tribal Adjudication Professional - June 2026 - Chandler\, AZ
DESCRIPTION:An exciting opportunity for NNAHRA Members and anyone working for tribal communities. We are proud to announce a partnership with Michele Justice of Personnel Security Consultants and NNAHRA. Personnel Security Consultants (PSC) specializes in training for Tribes and Tribal Organizations working to comply with federal suitability requirements\, as well as those seeking to improve their existing programs. \nRegistration Costs: \nNNAHRA Member  $1\,145 \nNon-NNAHRA Member  $1\,245 \n \n*Please note there is a prerequisite component which must be completed no less than five (5) days prior to attending this certification program. The prerequisite link will be provided three (3) weeks before the event with paid registration fees. \n*This training is valid for 22 hours towards a THRP I\, THRP II\, and TMP recertification. \n  \nTAP Brochure\n 
URL:https://nnahra.org/event/tap-tribal-adjudicator-professional-june-2026-chandler-az/
LOCATION:Wild Horse Pass Hotel & Casino\, 5040 Wild Horse Pass Blvd.\, Chandler\, Arizona\, 85226\, United States
CATEGORIES:event
ATTACH;FMTTYPE=image/png:https://nnahra.org/wp-content/uploads/2026/01/image-2.png
ORGANIZER;CN="NNAHRA Foundation":MAILTO:atavakoli@nnahra.org
END:VEVENT
BEGIN:VEVENT
DTSTART;TZID=America/Los_Angeles:20260608T080000
DTEND;TZID=America/Los_Angeles:20260611T170000
DTSTAMP:20260423T050115
CREATED:20251018T144544Z
LAST-MODIFIED:20251215T173123Z
UID:17119-1780905600-1781197200@nnahra.org
SUMMARY:THRP II
DESCRIPTION:
URL:https://nnahra.org/event/thrp-ii-5/
LOCATION:Table Mountain Casino Resort
CATEGORIES:event
ATTACH;FMTTYPE=image/jpeg:https://nnahra.org/wp-content/uploads/2024/03/thrp.jpg
ORGANIZER;CN="Drummond Woodsum":MAILTO:agrimes@dwmlaw.com
END:VEVENT
BEGIN:VEVENT
DTSTART;TZID=America/Los_Angeles:20260617T090000
DTEND;TZID=America/Los_Angeles:20260617T100000
DTSTAMP:20260423T050115
CREATED:20260319T121750Z
LAST-MODIFIED:20260319T121750Z
UID:18155-1781686800-1781690400@nnahra.org
SUMMARY:Brewing Better Investigations
DESCRIPTION:Investigating alleged employee misconduct is an integral part of a tribal employer’s delivery of fairness (due process) in the workplace.  From gathering relevant documents\, interviewing essential witnesses and synthesizing the evidence in a report\, there are lots of skills needed to be an effective investigator.  In this session\, we will address some of the best practices followed to make you a more effective investigator. \nCoffee with Counsel\, a quarterly webinar series hosted by the National Native American Human Resources Association (NNAHRA) in collaboration with Drummond Woodsum and employment law attorney Richard McGee. \n  \nCoffee with Counsel provides a space for HR professionals to engage in meaningful discussion around today’s workplace and employment law topics impacting Tribal organizations. Designed as a virtual “coffee break” conversation\, the series blends practical legal insight with real-world HR perspectives in an approachable and engaging format. \n  \nParticipants will also have the opportunity to explore common workplace challenges\, emerging legal trends\, and topics suggested by HR professionals working within Tribal governments and enterprises. \n  \nPlease note: \nThese sessions are intended for general informational purposes only and do not constitute legal advice or create an attorney–client relationship. Participants should not share confidential or matter-specific information and are encouraged to consult their Tribe’s or organization’s legal counsel for individualized guidance. \n  \nCoffee with Counsel is sponsored by NNAHRA and supports the organization’s professional certification programs\, including: \n\nTribal Human Resources Professional (THRP)\nTHRP II\nTribal Adjudication Professional (TAP)\nTribal Management Professional (TMP)\n\n  \n 
URL:https://nnahra.org/event/brewing-better-investigations/
ATTACH;FMTTYPE=image/png:https://nnahra.org/wp-content/uploads/2026/03/Coffee-with-Counsel-Morning-Light-Theme.png
END:VEVENT
BEGIN:VEVENT
DTSTART;TZID=America/Los_Angeles:20260713T080000
DTEND;TZID=America/Los_Angeles:20260716T170000
DTSTAMP:20260423T050115
CREATED:20251018T144726Z
LAST-MODIFIED:20251215T173123Z
UID:17122-1783929600-1784221200@nnahra.org
SUMMARY:THRP I
DESCRIPTION:
URL:https://nnahra.org/event/thrp-i-7/
LOCATION:Gun Lake Casino Resort
CATEGORIES:event
ATTACH;FMTTYPE=image/jpeg:https://nnahra.org/wp-content/uploads/2024/03/thrp.jpg
ORGANIZER;CN="Drummond Woodsum":MAILTO:agrimes@dwmlaw.com
END:VEVENT
BEGIN:VEVENT
DTSTART;TZID=America/Chicago:20260804T080000
DTEND;TZID=America/Chicago:20260806T170000
DTSTAMP:20260423T050115
CREATED:20251018T145739Z
LAST-MODIFIED:20260408T183944Z
UID:17136-1785830400-1786035600@nnahra.org
SUMMARY:TMP - Tribal Management Professional - August 2026 - Choctaw\, OK
DESCRIPTION:Tribal Management Professional (TMP) Certification \nThe TMP certification is a three-day\, in-person program that builds practical management skills in a culturally relevant context. The course includes modules on: \n\nTalent Acquisition\nBehavioral Interviewing\nPerformance Evaluation\nEmployee Engagement\nLeadership Development\n\nThis is a hands-on program designed for current and emerging leaders at all levels\, including HR and Training professionals who want train-the-trainer support. Participants must attend all three days\, and certification is earned by completing a 50-question exam on Day 3 with a minimum score of 65%. \nRegistration Costs: \nNNAHRA Member  $895 \nN0n-NNAHRA Member  $995 \n \nRecertification \nTo maintain certification\, participants must complete at least 24 hours of NNAHRA-approved education every two years. \nIf your Tribe is interested in hosting a TMP session\, please contact info@nnahra.org. \nTMP Brochure_08252025
URL:https://nnahra.org/event/tmp-3/
LOCATION:Choctaw Casino Resort\, Durant\, OK
CATEGORIES:event
ATTACH;FMTTYPE=image/jpeg:https://nnahra.org/wp-content/uploads/2025/10/TMP-Choctaw.jpg
ORGANIZER;CN="NNAHRA Foundation":MAILTO:atavakoli@nnahra.org
END:VEVENT
BEGIN:VEVENT
DTSTART;TZID=America/Los_Angeles:20260804T080000
DTEND;TZID=America/Los_Angeles:20260806T170000
DTSTAMP:20260423T050115
CREATED:20251018T150114Z
LAST-MODIFIED:20251215T173123Z
UID:17144-1785830400-1786035600@nnahra.org
SUMMARY:Tribal Adjudication Professional- TAP
DESCRIPTION:
URL:https://nnahra.org/event/tribal-adjudication-professional-tap-3/
LOCATION:Choctaw Casino Resort\, Durant\, OK
CATEGORIES:event
ATTACH;FMTTYPE=image/jpeg:https://nnahra.org/wp-content/uploads/2024/03/tap.jpg
ORGANIZER;CN="NNAHRA":MAILTO:info@nnahra.org
END:VEVENT
BEGIN:VEVENT
DTSTART;VALUE=DATE:20260928
DTEND;VALUE=DATE:20261001
DTSTAMP:20260423T050115
CREATED:20260121T132650Z
LAST-MODIFIED:20260121T132650Z
UID:17717-1790553600-1790812799@nnahra.org
SUMMARY:2026 NNAHRA Annual Conference
DESCRIPTION:September 28–30\, 2026Hilton Hawaiian Village Waikiki Beach Resort | Honolulu\, Hawaiʻi \nJoin the National Native American Human Resources Association (NNAHRA) as we proudly celebrate 30 years of Leadership\, Culture\, and Connection at our Annual Conference. \nThis milestone event brings together Tribal HR professionals\, leaders\, and partners from across Indigenous Country for three days of learning\, collaboration\, and meaningful connection. Attendees will experience engaging keynote presentations\, dynamic breakout sessions\, and valuable networking opportunities designed to support and strengthen Tribal workplaces and communities. \nWhether you are an emerging professional or a seasoned leader\, the NNAHRA Annual Conference offers practical insights\, shared knowledge\, and inspiration rooted in Tribal values and sovereignty. \nAgenda details and speaker announcements will be released soon.
URL:https://nnahra.org/event/2026-nnahra-annual-conference/
LOCATION:Hilton Hawaiian Village Waikiki\, 2005 Kalia Rd.\, Honolulu\, HI\, 96815\, United States
ATTACH;FMTTYPE=image/jpeg:https://nnahra.org/wp-content/uploads/2025/12/2026-Annual-Conference-Call-for-Speakers-flyer.jpg
ORGANIZER;CN="NNAHRA":MAILTO:info@nnahra.org
END:VEVENT
BEGIN:VEVENT
DTSTART;TZID=America/Los_Angeles:20261013T080000
DTEND;TZID=America/Los_Angeles:20261029T170000
DTSTAMP:20260423T050115
CREATED:20251018T144857Z
LAST-MODIFIED:20251215T173123Z
UID:17125-1791878400-1793293200@nnahra.org
SUMMARY:THRP I Virtual Tuesday & Thursday only
DESCRIPTION:
URL:https://nnahra.org/event/thrp-i-virtual-tuesday-thursday-only/
CATEGORIES:event
ATTACH;FMTTYPE=image/jpeg:https://nnahra.org/wp-content/uploads/2024/03/thrp.jpg
ORGANIZER;CN="Drummond Woodsum":MAILTO:agrimes@dwmlaw.com
END:VEVENT
BEGIN:VEVENT
DTSTART;TZID=America/Los_Angeles:20261021T090000
DTEND;TZID=America/Los_Angeles:20261021T100000
DTSTAMP:20260423T050115
CREATED:20260319T122307Z
LAST-MODIFIED:20260319T122519Z
UID:18157-1792573200-1792576800@nnahra.org
SUMMARY:Mental Health and the Workplace Accommodations: Navigating the Challenges
DESCRIPTION:Workplaces are pressure cookers that oftentimes bring out our best but can also generate anxiety and other unintended consequences that have a real impact on our colleagues.  When an employee’s mental health generates a workplace challenge\, tribal employers typically engage in a meaningful conversation to determine whether the employer can accommodate the employee’s needs while holding employees accountable to the workplace standards.  This arena is complicated by the question of whether federal and state standards apply and when they do not\, how should the tribal sovereign shape its standards. \nCoffee with Counsel\, a quarterly webinar series hosted by the National Native American Human Resources Association (NNAHRA) in collaboration with Drummond Woodsum and employment law attorney Richard McGee. \nCoffee with Counsel provides a space for HR professionals to engage in meaningful discussion around today’s workplace and employment law topics impacting Tribal organizations. Designed as a virtual “coffee break” conversation\, the series blends practical legal insight with real-world HR perspectives in an approachable and engaging format. \nParticipants will also have the opportunity to explore common workplace challenges\, emerging legal trends\, and topics suggested by HR professionals working within Tribal governments and enterprises. \nPlease note: \nThese sessions are intended for general informational purposes only and do not constitute legal advice or create an attorney–client relationship. Participants should not share confidential or matter-specific information and are encouraged to consult their Tribe’s or organization’s legal counsel for individualized guidance. \nCoffee with Counsel is sponsored by NNAHRA and supports the organization’s professional certification programs\, including: \n\nTribal Human Resources Professional (THRP)\nTHRP II\nTribal Adjudication Professional (TAP)\nTribal Management Professional (TMP)\n\n  \n 
URL:https://nnahra.org/event/18157/
ATTACH;FMTTYPE=image/png:https://nnahra.org/wp-content/uploads/2026/03/Coffee-with-Counsel-Morning-Light-Theme.png
END:VEVENT
BEGIN:VEVENT
DTSTART;TZID=America/Los_Angeles:20261116T080000
DTEND;TZID=America/Los_Angeles:20261119T170000
DTSTAMP:20260423T050115
CREATED:20251018T145204Z
LAST-MODIFIED:20251215T173123Z
UID:17127-1794816000-1795107600@nnahra.org
SUMMARY:THRP I
DESCRIPTION:
URL:https://nnahra.org/event/thrp-i-8/
LOCATION:Ilani Casino Resort\, 1 Cowlitz Way\, Ridgefield\, WA 98642\, WA\, 98642\, United States
CATEGORIES:event
ATTACH;FMTTYPE=image/jpeg:https://nnahra.org/wp-content/uploads/2024/03/thrp.jpg
ORGANIZER;CN="Drummond Woodsum":MAILTO:agrimes@dwmlaw.com
END:VEVENT
BEGIN:VEVENT
DTSTART;TZID=America/Los_Angeles:20261216T090000
DTEND;TZID=America/Los_Angeles:20261216T100000
DTSTAMP:20260423T050115
CREATED:20260319T122723Z
LAST-MODIFIED:20260319T122823Z
UID:18160-1797411600-1797415200@nnahra.org
SUMMARY:Aligning Department Goals with Tribal Vision: Strategic Planning Through Tribal Self-Determination
DESCRIPTION:Tribal self-determination is\, in part\, a tribe which defines its own goals\, sets its own deadlines and plots its own path to achieve those goals.  Defining and executing a tribe’s goals is certainly within the purview of tribal leadership\, but goal setting cannot be exclusively leadership’s role.  In their departments\, managers should exercise the tribe’s self-determination by setting proactive goals\, and with those goals\, determine the path and set the deadlines. \nCoffee with Counsel\, a quarterly webinar series hosted by the National Native American Human Resources Association (NNAHRA) in collaboration with Drummond Woodsum and employment law attorney Richard McGee. \n  \nCoffee with Counsel provides a space for HR professionals to engage in meaningful discussion around today’s workplace and employment law topics impacting Tribal organizations. Designed as a virtual “coffee break” conversation\, the series blends practical legal insight with real-world HR perspectives in an approachable and engaging format. \n  \nParticipants will also have the opportunity to explore common workplace challenges\, emerging legal trends\, and topics suggested by HR professionals working within Tribal governments and enterprises. \n  \nPlease note: \nThese sessions are intended for general informational purposes only and do not constitute legal advice or create an attorney–client relationship. Participants should not share confidential or matter-specific information and are encouraged to consult their Tribe’s or organization’s legal counsel for individualized guidance. \n  \nCoffee with Counsel is sponsored by NNAHRA and supports the organization’s professional certification programs\, including: \n\nTribal Human Resources Professional (THRP)\nTHRP II\nTribal Adjudication Professional (TAP)\nTribal Management Professional (TMP)\n\n  \n 
URL:https://nnahra.org/event/aligning-department-goals-with-tribal-vision-strategic-planning-through-tribal-self-determination/
ATTACH;FMTTYPE=image/png:https://nnahra.org/wp-content/uploads/2026/03/Coffee-with-Counsel-Morning-Light-Theme.png
END:VEVENT
END:VCALENDAR