BEGIN:VCALENDAR
VERSION:2.0
PRODID:-//NNAHRA - ECPv6.13.2.1//NONSGML v1.0//EN
CALSCALE:GREGORIAN
METHOD:PUBLISH
X-WR-CALNAME:NNAHRA
X-ORIGINAL-URL:https://nnahra.org
X-WR-CALDESC:Events for NNAHRA
REFRESH-INTERVAL;VALUE=DURATION:PT1H
X-Robots-Tag:noindex
X-PUBLISHED-TTL:PT1H
BEGIN:VTIMEZONE
TZID:America/Chicago
BEGIN:DAYLIGHT
TZOFFSETFROM:-0600
TZOFFSETTO:-0500
TZNAME:CDT
DTSTART:20220313T080000
END:DAYLIGHT
BEGIN:STANDARD
TZOFFSETFROM:-0500
TZOFFSETTO:-0600
TZNAME:CST
DTSTART:20221106T070000
END:STANDARD
END:VTIMEZONE
BEGIN:VEVENT
DTSTART;TZID=America/Chicago:20220111T120000
DTEND;TZID=America/Chicago:20220127T170000
DTSTAMP:20260423T145453
CREATED:20210930T002935Z
LAST-MODIFIED:20210930T002935Z
UID:8563-1641902400-1643302800@nnahra.org
SUMMARY:THRP- Virtual Session***Limited Seating***
DESCRIPTION:NNAHRA and Drummond Woodsum have joined forces to take the Tribal Human Resources Professional (THRP) training virtual. This 6 session online course will provide HR Professionals in Indian Country with the practical knowledge and skills they need to handle the unique employment challenges facing tribal governments and their enterprises.\n\n\n\n\n\n\n\n\n\n\n\n\n\n\n\n\n\n\n\n\n\n\n\nParticipants will learn and apply employment laws\, with a specific emphasis on protecting sovereignty. Topics will focus on issues HR Professionals grapple with every day\, including discrimination\, wage and hour issues\, employee discipline\, investigations\, evaluations\, leaves of absence\, union activity\, Indian Preference\, and more. The course includes online interactive exercises to reinforce learning and help participants gain confidence in navigating complex employment issues. Participants who successfully complete the final exam receive the NNAHRA Tribal Human Resources Professional Certification. Join over 1\,000 of your fellow HR Professionals who already hold the THRP certification\, which is widely recognized as the essential HR credential in Indian Country.
URL:https://nnahra.org/event/thrp-virtual-session/
END:VEVENT
END:VCALENDAR